BEGIN:VCALENDAR
VERSION:2.0
PRODID:-//ジャズピアニスト佐山雅弘オフィシャルページ - ECPv6.15.20//NONSGML v1.0//EN
CALSCALE:GREGORIAN
METHOD:PUBLISH
X-ORIGINAL-URL:https://sayamamasahiro.com
X-WR-CALDESC:ジャズピアニスト佐山雅弘オフィシャルページ のイベント
REFRESH-INTERVAL;VALUE=DURATION:PT1H
X-Robots-Tag:noindex
X-PUBLISHED-TTL:PT1H
BEGIN:VTIMEZONE
TZID:Asia/Tokyo
BEGIN:STANDARD
TZOFFSETFROM:+0900
TZOFFSETTO:+0900
TZNAME:JST
DTSTART:20170101T000000
END:STANDARD
END:VTIMEZONE
BEGIN:VEVENT
DTSTART;TZID=Asia/Tokyo:20180617T140000
DTEND;TZID=Asia/Tokyo:20180617T170000
DTSTAMP:20260424T211832
CREATED:20180402T135813Z
LAST-MODIFIED:20180402T135835Z
UID:877-1529244000-1529254800@sayamamasahiro.com
SUMMARY:2018/6/17(日)佐山雅弘×石田泰尚　デュオ　
DESCRIPTION:Ｏｋａｚａｋｉ　Ｅｘｃｉｔｉｎｇ　Ｓｔａｇｅ　Ｓｅｒｉｅｓ \n佐山雅弘×石田泰尚　デュオ \nＪａｚｚ　ｍｅｅｔｓ　Ｃｌａｓｓｉｃ \n2018/6/17(日)15:00 開演 ( 14:30 開場 ) \n岡崎市シビックセンターコンサートホール　 \nコロネット (愛知県) \n チケット \n\n\n\n住所\n〒444-0813\n愛知県岡崎市羽根町字貴登野１５　４Ｆ\n\n\nお問い\n合わせ先\n0564-72-5111\n\n\n\n\n高速道路\n東名高速道路岡崎20分\n最寄り駅\n東海道本線岡崎東口徒歩7分\n名鉄名古屋本線東岡崎バス\n岡崎駅前行き、岡崎市シビックセンター下車すぐ
URL:https://sayamamasahiro.com/events2/2018-6-17%e6%97%a5%e4%bd%90%e5%b1%b1%e9%9b%85%e5%bc%98x%e7%9f%b3%e7%94%b0%e6%b3%b0%e5%b0%9a%e3%80%80%e3%83%87%e3%83%a5%e3%82%aa%e3%80%80/
CATEGORIES:中部
ATTACH;FMTTYPE=image/jpeg:https://sayamamasahiro.com/wp-content/uploads/2017/05/18.jpg
END:VEVENT
END:VCALENDAR